BEGIN:VCALENDAR
VERSION:2.0
PRODID:-//eventon.com NONSGML v1.0//EN
BEGIN:VEVENT
UID:69e9d6e217508
DTSTAMP:20260423T102258
DTSTART:20220217
DTEND:20220220
TZID:Europe/Madrid
LOCATION:
SUMMARY:III Copa Catalunya
DESCRIPTION: III Copa Catalunya\nhttps://www.eldebatiente.es/events/iii-copa-catalunya/
URL:https://www.eldebatiente.es/events/iii-copa-catalunya/
END:VEVENT
END:VCALENDAR