BEGIN:VCALENDAR
VERSION:2.0
PRODID:-//eventon.com NONSGML v1.0//EN
BEGIN:VEVENT
UID:69e9d64571edd
DTSTAMP:20260423T102021
DTSTART:20230504
DTEND:20230506
TZID:Europe/Madrid
LOCATION:Campus de Córdoba de la Universidad Loyola Andalucía 
SUMMARY:II Torneo de Debate Equipo Europa
DESCRIPTION: ¿Tiene la Unión Europea suficiente autonomía para hacer frente a la corrupción en sus instituciones?\nhttps://www.eldebatiente.es/events/ii-torneo-de-debate-equipo-europa/
URL:https://www.eldebatiente.es/events/ii-torneo-de-debate-equipo-europa/
END:VEVENT
END:VCALENDAR