BEGIN:VCALENDAR
VERSION:2.0
PRODID:-//eventon.com NONSGML v1.0//EN
BEGIN:VEVENT
UID:69e9d773861d3
DTSTAMP:20260423T102523
DTSTART:20231109
DTEND:20231112
TZID:Europe/Madrid
LOCATION:Universidad Autónoma de Madrid 
SUMMARY:VII Torneo BP UAM
DESCRIPTION: VII Torneo BP UAM\nhttps://www.eldebatiente.es/events/vii-torneo-bp-uam/
URL:https://www.eldebatiente.es/events/vii-torneo-bp-uam/
END:VEVENT
END:VCALENDAR