BEGIN:VCALENDAR
VERSION:2.0
PRODID:-//eventon.com NONSGML v1.0//EN
BEGIN:VEVENT
UID:69e9d7f758e1d
DTSTAMP:20260423T102735
DTSTART:20241212
DTEND:20241214
TZID:Europe/Madrid
LOCATION:Córdoba 
SUMMARY:XII Torneo Nacional de Debate Escolar CDU
DESCRIPTION: XII Torneo Nacional de Debate Escolar CDU\nhttps://www.eldebatiente.es/events/xii-torneo-nacional-de-debate-escolar-cdu/
URL:https://www.eldebatiente.es/events/xii-torneo-nacional-de-debate-escolar-cdu/
END:VEVENT
END:VCALENDAR