BEGIN:VCALENDAR
VERSION:2.0
PRODID:-//eventon.com NONSGML v1.0//EN
BEGIN:VEVENT
UID:69e9d7485455e
DTSTAMP:20260423T102440
DTSTART:20251113
DTEND:20251115
TZID:Europe/Madrid
LOCATION:Colegio Mayor Isabel de España (Madrid) 
SUMMARY:XIII Torneo de Debate Isabel de España
DESCRIPTION: XIII Torneo de Debate Isabel de España\nhttps://www.eldebatiente.es/events/xiii-torneo-de-debate-isabel-de-espana/
URL:https://www.eldebatiente.es/events/xiii-torneo-de-debate-isabel-de-espana/
END:VEVENT
END:VCALENDAR